BEGIN:VCALENDAR
PRODID:-//http://statistik.d-u-v.org//PHP ultracalendar//EN
VERSION:2.0
METHOD:PUBLISH
BEGIN:VEVENT
DTSTAMP:20260419T185915
CREATED:20201125T143759
UID:1776625155.0.23226300-72758@statistik.d-u-v.org
SUMMARY:Nanango South Burnett Pioneer Footrace
DESCRIPTION: Nanango South Burnett Pioneer Footrace\n
  \n
  
DTSTART:19940905T000000
DTEND:19940909T235900
LOCATION:Nanango, QLD\, AUS
URL:
CATEGORIES:Ultramarathon
CONTACT:
CLASS:PUBLIC
PRIORITY:5
TRANSP:OPAQUE
END:VEVENT
END:VCALENDAR
