BEGIN:VCALENDAR
PRODID:-//http://statistik.d-u-v.org//PHP ultracalendar//EN
VERSION:2.0
METHOD:PUBLISH
BEGIN:VEVENT
DTSTAMP:20260423T033720
CREATED:20201123T162149
UID:1776915440.0.47548600-72666@statistik.d-u-v.org
SUMMARY:Children's Hospital 24 Hour Run
DESCRIPTION: Children's Hospital 24 Hour Run\n
  \n
  
DTSTART:19901006T000000
DTEND:19901007T235900
LOCATION:Woodsfield, OH\, USA
URL:
CATEGORIES:Ultramarathon
CONTACT:
CLASS:PUBLIC
PRIORITY:5
TRANSP:OPAQUE
END:VEVENT
END:VCALENDAR
