BEGIN:VCALENDAR
PRODID:-//http://statistik.d-u-v.org//PHP ultracalendar//EN
VERSION:2.0
METHOD:PUBLISH
BEGIN:VEVENT
DTSTAMP:20260419T185905
CREATED:20211204T212056
UID:1776625145.0.76175500-72644@statistik.d-u-v.org
SUMMARY:Miami 48h
DESCRIPTION: Miami 48h\n
  \n
  
DTSTART:19800229T000000
DTEND:19800302T235900
LOCATION:Miami, FL\, USA
URL:
CATEGORIES:Ultramarathon
CONTACT:
CLASS:PUBLIC
PRIORITY:5
TRANSP:OPAQUE
END:VEVENT
END:VCALENDAR
