BEGIN:VCALENDAR
PRODID:-//http://statistik.d-u-v.org//PHP ultracalendar//EN
VERSION:2.0
METHOD:PUBLISH
BEGIN:VEVENT
DTSTAMP:20260420T070837
CREATED:20201118T170801
UID:1776668917.0.56992600-72524@statistik.d-u-v.org
SUMMARY:San Antonio 50 Mile
DESCRIPTION: San Antonio 50 Mile\n
  \n
  
DTSTART:19831204T000000
DTEND:00000000T235900
LOCATION:San Antonio, TX\, USA
URL:
CATEGORIES:Ultramarathon
CONTACT:
CLASS:PUBLIC
PRIORITY:5
TRANSP:OPAQUE
END:VEVENT
END:VCALENDAR
