BEGIN:VCALENDAR
PRODID:-//http://statistik.d-u-v.org//PHP ultracalendar//EN
VERSION:2.0
METHOD:PUBLISH
BEGIN:VEVENT
DTSTAMP:20260423T020518
CREATED:20201118T170623
UID:1776909918.0.01323900-72520@statistik.d-u-v.org
SUMMARY:Riverside Park 50 Mile
DESCRIPTION: Riverside Park 50 Mile\n
  \n
  
DTSTART:19831023T000000
DTEND:00000000T235900
LOCATION:Grand Rapids, MI\, USA
URL:
CATEGORIES:Ultramarathon
CONTACT:
CLASS:PUBLIC
PRIORITY:5
TRANSP:OPAQUE
END:VEVENT
END:VCALENDAR
