BEGIN:VCALENDAR
PRODID:-//http://statistik.d-u-v.org//PHP ultracalendar//EN
VERSION:2.0
METHOD:PUBLISH
BEGIN:VEVENT
DTSTAMP:20260423T020457
CREATED:20201118T163250
UID:1776909897.0.56066500-72511@statistik.d-u-v.org
SUMMARY:Edward Payson Weston Six Day Track Race - 48h Split
DESCRIPTION: Edward Payson Weston Six Day Track Race - 48h Split\n
  \n
  
DTSTART:19920621T000000
DTEND:19920623T235900
LOCATION:Pennsauken, NJ\, USA
URL:
CATEGORIES:Ultramarathon
CONTACT:
CLASS:PUBLIC
PRIORITY:5
TRANSP:OPAQUE
END:VEVENT
END:VCALENDAR
