BEGIN:VCALENDAR
PRODID:-//http://statistik.d-u-v.org//PHP ultracalendar//EN
VERSION:2.0
METHOD:PUBLISH
BEGIN:VEVENT
DTSTAMP:20260419T192446
CREATED:20201118T161509
UID:1776626686.0.07727900-72510@statistik.d-u-v.org
SUMMARY:FANS 24 Hour Runs
DESCRIPTION: FANS 24 Hour Runs\n
  \n
  
DTSTART:19910629T000000
DTEND:19910630T235900
LOCATION:Minneapolis, MN\, USA
URL:http://www.fans24hour.org/
CATEGORIES:Ultramarathon
CONTACT:
CLASS:PUBLIC
PRIORITY:5
TRANSP:OPAQUE
END:VEVENT
END:VCALENDAR
