BEGIN:VCALENDAR
PRODID:-//http://statistik.d-u-v.org//PHP ultracalendar//EN
VERSION:2.0
METHOD:PUBLISH
BEGIN:VEVENT
DTSTAMP:20260423T020553
CREATED:20201117T181432
UID:1776909953.0.16562400-72496@statistik.d-u-v.org
SUMMARY:Edward Payson Weston Six Day Track Race
DESCRIPTION: Edward Payson Weston Six Day Track Race\n
  \n
  
DTSTART:19910616T000000
DTEND:19910622T235900
LOCATION:Pennsauken, NJ\, USA
URL:
CATEGORIES:Ultramarathon
CONTACT:
CLASS:PUBLIC
PRIORITY:5
TRANSP:OPAQUE
END:VEVENT
END:VCALENDAR
