BEGIN:VCALENDAR
PRODID:-//http://statistik.d-u-v.org//PHP ultracalendar//EN
VERSION:2.0
METHOD:PUBLISH
BEGIN:VEVENT
DTSTAMP:20260423T020554
CREATED:20201116T152535
UID:1776909954.0.89588300-72450@statistik.d-u-v.org
SUMMARY:Badger Mountain Ultra Bean Run
DESCRIPTION: Badger Mountain Ultra Bean Run\n
  \n
  
DTSTART:19831105T000000
DTEND:00000000T235900
LOCATION:Wenatchee, WA\, USA
URL:
CATEGORIES:Ultramarathon
CONTACT:
CLASS:PUBLIC
PRIORITY:5
TRANSP:OPAQUE
END:VEVENT
END:VCALENDAR
