BEGIN:VCALENDAR
PRODID:-//http://statistik.d-u-v.org//PHP ultracalendar//EN
VERSION:2.0
METHOD:PUBLISH
BEGIN:VEVENT
DTSTAMP:20260423T100309
CREATED:20201114T130435
UID:1776938589.0.45046100-72359@statistik.d-u-v.org
SUMMARY:WTF Backyard Ultra
DESCRIPTION: WTF Backyard Ultra\n
  Olaf Szukalowicz\n
  info[at]mossarun.com
DTSTART:20210403T000000
DTEND:00000000T235900
LOCATION:Lindås\, SWE
URL:https://www.mossarun.com/wtf-backyard-ultra/
CATEGORIES:Ultramarathon
CONTACT:Olaf Szukalowicz
CLASS:PUBLIC
PRIORITY:5
TRANSP:OPAQUE
END:VEVENT
END:VCALENDAR
