BEGIN:VCALENDAR
PRODID:-//http://statistik.d-u-v.org//PHP ultracalendar//EN
VERSION:2.0
METHOD:PUBLISH
BEGIN:VEVENT
DTSTAMP:20260422T101815
CREATED:20201112T101809
UID:1776853095.0.13110700-72222@statistik.d-u-v.org
SUMMARY:Mountaineer Rumble 100 Mile Race
DESCRIPTION: Mountaineer Rumble 100 Mile Race\n
  \n
  jcwaldt[at]gmail.com
DTSTART:20201107T080000
DTEND:20201108T235900
LOCATION:Clover, SC\, USA
URL:https://www.facebook.com/Mountaineer-Rumble-420009962132503/
CATEGORIES:Ultramarathon
CONTACT:
CLASS:PUBLIC
PRIORITY:5
TRANSP:OPAQUE
END:VEVENT
END:VCALENDAR
