BEGIN:VCALENDAR
PRODID:-//http://statistik.d-u-v.org//PHP ultracalendar//EN
VERSION:2.0
METHOD:PUBLISH
BEGIN:VEVENT
DTSTAMP:20260422T222546
CREATED:20201109T035105
UID:1776896746.0.04479200-72152@statistik.d-u-v.org
SUMMARY:Die glorreichen Sieben, Etappe 6 Soltau - Undeloh
DESCRIPTION: Die glorreichen Sieben, Etappe 6 Soltau - Undeloh\n
  \n
  dieglorreichensieben[at]web.de
DTSTART:20200814T070000
DTEND:20200814T175000
LOCATION:Soltau\, GER
URL:http://dieglorreichen7.wordpress.com
CATEGORIES:Ultramarathon
CONTACT:
CLASS:PUBLIC
PRIORITY:5
TRANSP:OPAQUE
END:VEVENT
END:VCALENDAR
