BEGIN:VCALENDAR
PRODID:-//http://statistik.d-u-v.org//PHP ultracalendar//EN
VERSION:2.0
METHOD:PUBLISH
BEGIN:VEVENT
DTSTAMP:20260419T185736
CREATED:20201109T161226
UID:1776625056.0.65911600-72066@statistik.d-u-v.org
SUMMARY:Donner Trail 50 Miler
DESCRIPTION: Donner Trail 50 Miler\n
  \n
  
DTSTART:19830528T000000
DTEND:00000000T235900
LOCATION:Reno, NV\, USA
URL:
CATEGORIES:Ultramarathon
CONTACT:
CLASS:PUBLIC
PRIORITY:5
TRANSP:OPAQUE
END:VEVENT
END:VCALENDAR
