BEGIN:VCALENDAR
PRODID:-//http://statistik.d-u-v.org//PHP ultracalendar//EN
VERSION:2.0
METHOD:PUBLISH
BEGIN:VEVENT
DTSTAMP:20260423T000010
CREATED:20201109T160608
UID:1776902410.0.04960300-72057@statistik.d-u-v.org
SUMMARY:Run For Life Ultra
DESCRIPTION: Run For Life Ultra\n
  \n
  
DTSTART:19830417T000000
DTEND:00000000T235900
LOCATION:Columbus, OH\, USA
URL:
CATEGORIES:Ultramarathon
CONTACT:
CLASS:PUBLIC
PRIORITY:5
TRANSP:OPAQUE
END:VEVENT
END:VCALENDAR
