BEGIN:VCALENDAR
PRODID:-//http://statistik.d-u-v.org//PHP ultracalendar//EN
VERSION:2.0
METHOD:PUBLISH
BEGIN:VEVENT
DTSTAMP:20260423T012415
CREATED:20201105T173848
UID:1776907455.0.25497700-71917@statistik.d-u-v.org
SUMMARY:Run On The Sly 50 Km
DESCRIPTION: Run On The Sly 50 Km\n
  \n
  
DTSTART:20070902T000000
DTEND:00000000T235900
LOCATION:Pollock Pines, CA\, USA
URL:http://www.runonthesly.com/
CATEGORIES:Ultramarathon
CONTACT:
CLASS:PUBLIC
PRIORITY:5
TRANSP:OPAQUE
END:VEVENT
END:VCALENDAR
