BEGIN:VCALENDAR
PRODID:-//http://statistik.d-u-v.org//PHP ultracalendar//EN
VERSION:2.0
METHOD:PUBLISH
BEGIN:VEVENT
DTSTAMP:20260419T205115
CREATED:20201104T224353
UID:1776631875.0.89738700-71877@statistik.d-u-v.org
SUMMARY:Backyard Sandefjord
DESCRIPTION: Backyard Sandefjord\n
  Marius Nordby\n
  marius[at]velocitysport.no
DTSTART:20201024T100000
DTEND:00000000T235900
LOCATION:Sandefjord\, NOR
URL:https://www.backyardultra.no/info-sandefjord
CATEGORIES:Ultramarathon
CONTACT:Marius Nordby
CLASS:PUBLIC
PRIORITY:5
TRANSP:OPAQUE
END:VEVENT
END:VCALENDAR
