BEGIN:VCALENDAR
PRODID:-//http://statistik.d-u-v.org//PHP ultracalendar//EN
VERSION:2.0
METHOD:PUBLISH
BEGIN:VEVENT
DTSTAMP:20260423T034822
CREATED:20201104T223442
UID:1776916102.0.78567200-71874@statistik.d-u-v.org
SUMMARY:Holmestrand Cannonball Ultra
DESCRIPTION: Holmestrand Cannonball Ultra\n
  Kristian Jahre och Jeanette Vika\n
  kjahre[at]hotmail.com
DTSTART:20200215T000000
DTEND:00000000T235900
LOCATION:Holmestrand\, NOR
URL:https://www.facebook.com/events/571623206726863/
CATEGORIES:Ultramarathon
CONTACT:Kristian Jahre och Jeanette Vika
CLASS:PUBLIC
PRIORITY:5
TRANSP:OPAQUE
END:VEVENT
END:VCALENDAR
