BEGIN:VCALENDAR
PRODID:-//http://statistik.d-u-v.org//PHP ultracalendar//EN
VERSION:2.0
METHOD:PUBLISH
BEGIN:VEVENT
DTSTAMP:20260419T190025
CREATED:20201030T164240
UID:1776625225.0.21387300-71678@statistik.d-u-v.org
SUMMARY:The 38'er Waterloo Run
DESCRIPTION: The 38'er Waterloo Run\n
  \n
  
DTSTART:19821114T000000
DTEND:00000000T235900
LOCATION:Waterloo, ON\, CAN
URL:
CATEGORIES:Ultramarathon
CONTACT:
CLASS:PUBLIC
PRIORITY:5
TRANSP:OPAQUE
END:VEVENT
END:VCALENDAR
