BEGIN:VCALENDAR
PRODID:-//http://statistik.d-u-v.org//PHP ultracalendar//EN
VERSION:2.0
METHOD:PUBLISH
BEGIN:VEVENT
DTSTAMP:20260423T014624
CREATED:20201029T172731
UID:1776908784.0.09858100-71663@statistik.d-u-v.org
SUMMARY:Laurel Highlands 70 Mile Ultra
DESCRIPTION: Laurel Highlands 70 Mile Ultra\n
  \n
  
DTSTART:20000610T000000
DTEND:20000611T235900
LOCATION:Ohiopyle, PA\, USA
URL:http://www.laurelultra.com/
CATEGORIES:Ultramarathon
CONTACT:
CLASS:PUBLIC
PRIORITY:5
TRANSP:OPAQUE
END:VEVENT
END:VCALENDAR
