BEGIN:VCALENDAR
PRODID:-//http://statistik.d-u-v.org//PHP ultracalendar//EN
VERSION:2.0
METHOD:PUBLISH
BEGIN:VEVENT
DTSTAMP:20260423T070109
CREATED:20201027T190627
UID:1776927669.0.02574700-71591@statistik.d-u-v.org
SUMMARY:Dallas UltraRunners 24 Hour Track Race
DESCRIPTION: Dallas UltraRunners 24 Hour Track Race\n
  \n
  
DTSTART:19821113T000000
DTEND:19821114T235900
LOCATION:Mesquite, TX\, USA
URL:
CATEGORIES:Ultramarathon
CONTACT:
CLASS:PUBLIC
PRIORITY:5
TRANSP:OPAQUE
END:VEVENT
END:VCALENDAR
