BEGIN:VCALENDAR
PRODID:-//http://statistik.d-u-v.org//PHP ultracalendar//EN
VERSION:2.0
METHOD:PUBLISH
BEGIN:VEVENT
DTSTAMP:20260423T052607
CREATED:20201026T173024
UID:1776921967.0.40081000-71517@statistik.d-u-v.org
SUMMARY:Challenge Cup 50 - 50 Mile
DESCRIPTION: Challenge Cup 50 - 50 Mile\n
  \n
  
DTSTART:19821106T000000
DTEND:00000000T235900
LOCATION:San Francisco, CA\, USA
URL:
CATEGORIES:Ultramarathon
CONTACT:
CLASS:PUBLIC
PRIORITY:5
TRANSP:OPAQUE
END:VEVENT
END:VCALENDAR
