BEGIN:VCALENDAR
PRODID:-//http://statistik.d-u-v.org//PHP ultracalendar//EN
VERSION:2.0
METHOD:PUBLISH
BEGIN:VEVENT
DTSTAMP:20260424T155326
CREATED:20201022T095316
UID:1777046006.0.87839500-71340@statistik.d-u-v.org
SUMMARY:Danshui to Wuzhi Ultra Run
DESCRIPTION: Danshui to Wuzhi Ultra Run\n
  \n
  
DTSTART:20201121T060000
DTEND:00000000T235900
LOCATION:Tamsui District\, TPE
URL:https://www.ibodygo.com.tw/EventTopic.aspx?n=1093
CATEGORIES:Ultramarathon
CONTACT:
CLASS:PUBLIC
PRIORITY:5
TRANSP:OPAQUE
END:VEVENT
END:VCALENDAR
