BEGIN:VCALENDAR
PRODID:-//http://statistik.d-u-v.org//PHP ultracalendar//EN
VERSION:2.0
METHOD:PUBLISH
BEGIN:VEVENT
DTSTAMP:20260425T180033
CREATED:20201022T082711
UID:1777140033.0.81728700-71330@statistik.d-u-v.org
SUMMARY:Flex Power National 50K Track Taipei
DESCRIPTION: Flex Power National 50K Track Taipei\n
  \n
  ctau.runner[at]gmail.com
DTSTART:20201031T070000
DTEND:00000000T235900
LOCATION:Taipei City\, TPE
URL:https://docs.google.com/document/d/12ZwVCI5BjdtohiQ-XDlLwQkXRlfbJU8CHm6BlaDpNGc/edit
CATEGORIES:Ultramarathon
CONTACT:
CLASS:PUBLIC
PRIORITY:5
TRANSP:OPAQUE
END:VEVENT
END:VCALENDAR
