BEGIN:VCALENDAR
PRODID:-//http://statistik.d-u-v.org//PHP ultracalendar//EN
VERSION:2.0
METHOD:PUBLISH
BEGIN:VEVENT
DTSTAMP:20260419T211121
CREATED:20201021T153635
UID:1776633081.0.60895800-71295@statistik.d-u-v.org
SUMMARY:Waterway 30
DESCRIPTION: Waterway 30\n
  Ronnie Staton\n
  ronnie[at]hobopace.co.uk
DTSTART:20220305T090000
DTEND:00000000T235900
LOCATION:South Wheatley\, GBR
URL:http://www.hobopace.co.uk
CATEGORIES:Ultramarathon
CONTACT:Ronnie Staton
CLASS:PUBLIC
PRIORITY:5
TRANSP:OPAQUE
END:VEVENT
END:VCALENDAR
