BEGIN:VCALENDAR
PRODID:-//http://statistik.d-u-v.org//PHP ultracalendar//EN
VERSION:2.0
METHOD:PUBLISH
BEGIN:VEVENT
DTSTAMP:20260420T005901
CREATED:20201019T111439
UID:1776646741.0.97441000-71183@statistik.d-u-v.org
SUMMARY:Picnic Island Ultra 10 Hour Race
DESCRIPTION: Picnic Island Ultra 10 Hour Race\n
  \n
  southfloridaultras[at]gmail.com
DTSTART:20210320T080000
DTEND:00000000T235900
LOCATION:Jupiter, FL\, USA
URL:http://PicnicIslandUltra.com
CATEGORIES:Ultramarathon
CONTACT:
CLASS:PUBLIC
PRIORITY:5
TRANSP:OPAQUE
END:VEVENT
END:VCALENDAR
