BEGIN:VCALENDAR
PRODID:-//http://statistik.d-u-v.org//PHP ultracalendar//EN
VERSION:2.0
METHOD:PUBLISH
BEGIN:VEVENT
DTSTAMP:20260419T185836
CREATED:20201019T050306
UID:1776625116.0.66349700-71173@statistik.d-u-v.org
SUMMARY:Gurugram Night Run - 100km
DESCRIPTION: Gurugram Night Run - 100km\n
  \n
  
DTSTART:20201017T190000
DTEND:20201018T070000
LOCATION:Gurugram\, IND
URL:https://www.townscript.com/e/12hrs-night-run-102120
CATEGORIES:Ultramarathon
CONTACT:
CLASS:PUBLIC
PRIORITY:5
TRANSP:OPAQUE
END:VEVENT
END:VCALENDAR
