BEGIN:VCALENDAR
PRODID:-//http://statistik.d-u-v.org//PHP ultracalendar//EN
VERSION:2.0
METHOD:PUBLISH
BEGIN:VEVENT
DTSTAMP:20260423T070115
CREATED:20201014T181929
UID:1776927675.0.58139900-71059@statistik.d-u-v.org
SUMMARY:De Anza Cove 50 Mile Run
DESCRIPTION: De Anza Cove 50 Mile Run\n
  \n
  
DTSTART:19820912T000000
DTEND:00000000T235900
LOCATION:San Diego, CA\, USA
URL:
CATEGORIES:Ultramarathon
CONTACT:
CLASS:PUBLIC
PRIORITY:5
TRANSP:OPAQUE
END:VEVENT
END:VCALENDAR
