BEGIN:VCALENDAR
PRODID:-//http://statistik.d-u-v.org//PHP ultracalendar//EN
VERSION:2.0
METHOD:PUBLISH
BEGIN:VEVENT
DTSTAMP:20260423T020341
CREATED:20201013T150807
UID:1776909821.0.53022900-71009@statistik.d-u-v.org
SUMMARY:Hardmoors 60
DESCRIPTION: Hardmoors 60\n
  Jon and Shirley Steele\n
  hardmoors110[at]gmail.com
DTSTART:20210918T080000
DTEND:00000000T235900
LOCATION:Guisborough\, GBR
URL:http://www.hardmoors110.org.uk/hardmoors-60/
CATEGORIES:Ultramarathon
CONTACT:Jon and Shirley Steele
CLASS:PUBLIC
PRIORITY:5
TRANSP:OPAQUE
END:VEVENT
END:VCALENDAR
