BEGIN:VCALENDAR
PRODID:-//http://statistik.d-u-v.org//PHP ultracalendar//EN
VERSION:2.0
METHOD:PUBLISH
BEGIN:VEVENT
DTSTAMP:20260420T003858
CREATED:20201011T165335
UID:1776645538.0.59818200-70967@statistik.d-u-v.org
SUMMARY:Ultra Bladzina 160km
DESCRIPTION: Ultra Bladzina 160km\n
  Marcin Matejczuk\n
  ultrasledz[at]gmail.com
DTSTART:20210423T180000
DTEND:20210424T180000
LOCATION:Suprasl\, POL
URL:http://ultrasledz.pl
CATEGORIES:Ultramarathon
CONTACT:Marcin Matejczuk
CLASS:PUBLIC
PRIORITY:5
TRANSP:OPAQUE
END:VEVENT
END:VCALENDAR
