BEGIN:VCALENDAR
PRODID:-//http://statistik.d-u-v.org//PHP ultracalendar//EN
VERSION:2.0
METHOD:PUBLISH
BEGIN:VEVENT
DTSTAMP:20260419T200615
CREATED:20100220T093301
UID:1776629175.0.16138500-7085@statistik.d-u-v.org
SUMMARY:Sri Chinmoy Ultra Trio 1300 Mile Race - 6d Split
DESCRIPTION: Sri Chinmoy Ultra Trio 1300 Mile Race - 6d Split\n
  \n
  
DTSTART:20040913T000000
DTEND:20040919T235900
LOCATION:New York, NY\, USA
URL:
CATEGORIES:Ultramarathon
CONTACT:
CLASS:PUBLIC
PRIORITY:5
TRANSP:OPAQUE
END:VEVENT
END:VCALENDAR
