BEGIN:VCALENDAR
PRODID:-//http://statistik.d-u-v.org//PHP ultracalendar//EN
VERSION:2.0
METHOD:PUBLISH
BEGIN:VEVENT
DTSTAMP:20260419T192149
CREATED:20201007T190638
UID:1776626509.0.81292400-70832@statistik.d-u-v.org
SUMMARY:Rocky Mountain 50 Mile Run
DESCRIPTION: Rocky Mountain 50 Mile Run\n
  \n
  
DTSTART:19820530T000000
DTEND:00000000T235900
LOCATION:Laramie, WY\, USA
URL:
CATEGORIES:Ultramarathon
CONTACT:
CLASS:PUBLIC
PRIORITY:5
TRANSP:OPAQUE
END:VEVENT
END:VCALENDAR
