BEGIN:VCALENDAR
PRODID:-//http://statistik.d-u-v.org//PHP ultracalendar//EN
VERSION:2.0
METHOD:PUBLISH
BEGIN:VEVENT
DTSTAMP:20260419T200610
CREATED:20201006T173217
UID:1776629170.0.33806500-70748@statistik.d-u-v.org
SUMMARY:Glen Lyon
DESCRIPTION: Glen Lyon\n
  Bill Heirs\n
  bill[at]runyarocket.com
DTSTART:20210605T180000
DTEND:20210606T235900
LOCATION:Glenlyon\, GBR
URL:https://runyarocket.com/race/glen-lyon-trail/
CATEGORIES:Ultramarathon
CONTACT:Bill Heirs
CLASS:PUBLIC
PRIORITY:5
TRANSP:OPAQUE
END:VEVENT
END:VCALENDAR
