BEGIN:VCALENDAR
PRODID:-//http://statistik.d-u-v.org//PHP ultracalendar//EN
VERSION:2.0
METHOD:PUBLISH
BEGIN:VEVENT
DTSTAMP:20260419T192027
CREATED:20200930T160510
UID:1776626427.0.70399900-70567@statistik.d-u-v.org
SUMMARY:Miami Runners Ultras - 50 Miles
DESCRIPTION: Miami Runners Ultras - 50 Miles\n
  \n
  
DTSTART:19820206T000000
DTEND:00000000T235900
LOCATION:Miami, FL\, USA
URL:
CATEGORIES:Ultramarathon
CONTACT:
CLASS:PUBLIC
PRIORITY:5
TRANSP:OPAQUE
END:VEVENT
END:VCALENDAR
