BEGIN:VCALENDAR
PRODID:-//http://statistik.d-u-v.org//PHP ultracalendar//EN
VERSION:2.0
METHOD:PUBLISH
BEGIN:VEVENT
DTSTAMP:20260422T084451
CREATED:20200925T124136
UID:1776847491.0.98504400-70466@statistik.d-u-v.org
SUMMARY:S:t Hans Extreme Ultra 6h
DESCRIPTION: S:t Hans Extreme Ultra 6h\n
  Sara Snogerup Linse\n
  she[at]lundsok.se
DTSTART:20210828T000000
DTEND:00000000T235900
LOCATION:Lund\, SWE
URL:https://she.lundsok.se/
CATEGORIES:Ultramarathon
CONTACT:Sara Snogerup Linse
CLASS:PUBLIC
PRIORITY:5
TRANSP:OPAQUE
END:VEVENT
END:VCALENDAR
