BEGIN:VCALENDAR
PRODID:-//http://statistik.d-u-v.org//PHP ultracalendar//EN
VERSION:2.0
METHOD:PUBLISH
BEGIN:VEVENT
DTSTAMP:20260423T034914
CREATED:20200924T181800
UID:1776916154.0.86896400-70407@statistik.d-u-v.org
SUMMARY:Nick Marshall Track Run - 100km Split
DESCRIPTION: Nick Marshall Track Run - 100km Split\n
  \n
  
DTSTART:19811017T000000
DTEND:19811018T235900
LOCATION:Tullahoma, TN\, USA
URL:
CATEGORIES:Ultramarathon
CONTACT:
CLASS:PUBLIC
PRIORITY:5
TRANSP:OPAQUE
END:VEVENT
END:VCALENDAR
