BEGIN:VCALENDAR
PRODID:-//http://statistik.d-u-v.org//PHP ultracalendar//EN
VERSION:2.0
METHOD:PUBLISH
BEGIN:VEVENT
DTSTAMP:20260420T005849
CREATED:20200924T165400
UID:1776646729.0.94595000-70390@statistik.d-u-v.org
SUMMARY:Bair Gutsman Mountain Ultra
DESCRIPTION: Bair Gutsman Mountain Ultra\n
  \n
  
DTSTART:19810808T000000
DTEND:00000000T235900
LOCATION:Fruit Heights, UT\, USA
URL:
CATEGORIES:Ultramarathon
CONTACT:
CLASS:PUBLIC
PRIORITY:5
TRANSP:OPAQUE
END:VEVENT
END:VCALENDAR
