BEGIN:VCALENDAR
PRODID:-//http://statistik.d-u-v.org//PHP ultracalendar//EN
VERSION:2.0
METHOD:PUBLISH
BEGIN:VEVENT
DTSTAMP:20260420T000637
CREATED:20200924T111359
UID:1776643597.0.62650600-70369@statistik.d-u-v.org
SUMMARY:Tulsa Urban 100 Mile Race
DESCRIPTION: Tulsa Urban 100 Mile Race\n
  \n
  
DTSTART:20190928T070000
DTEND:20190929T235900
LOCATION:Tulsa, OK\, USA
URL:https://www.urbanadventure.run/
CATEGORIES:Ultramarathon
CONTACT:
CLASS:PUBLIC
PRIORITY:5
TRANSP:OPAQUE
END:VEVENT
END:VCALENDAR
