BEGIN:VCALENDAR
PRODID:-//http://statistik.d-u-v.org//PHP ultracalendar//EN
VERSION:2.0
METHOD:PUBLISH
BEGIN:VEVENT
DTSTAMP:20260419T211249
CREATED:20200924T103415
UID:1776633169.0.93577100-70363@statistik.d-u-v.org
SUMMARY:Sangre de Cristo Ultra 100 km Race
DESCRIPTION: Sangre de Cristo Ultra 100 km Race\n
  \n
  info[at]humanpotentialrunning.com
DTSTART:20210925T060000
DTEND:20210926T235900
LOCATION:Westcliffe, CO\, USA
URL:http://humanpotentialrunning.com/sangre-de-cristo/
CATEGORIES:Ultramarathon
CONTACT:
CLASS:PUBLIC
PRIORITY:5
TRANSP:OPAQUE
END:VEVENT
END:VCALENDAR
