BEGIN:VCALENDAR
PRODID:-//http://statistik.d-u-v.org//PHP ultracalendar//EN
VERSION:2.0
METHOD:PUBLISH
BEGIN:VEVENT
DTSTAMP:20260422T231304
CREATED:20200923T135012
UID:1776899584.0.16211400-70350@statistik.d-u-v.org
SUMMARY:Moonbow Ultra Race
DESCRIPTION: Moonbow Ultra Race\n
  \n
  
DTSTART:20200926T073000
DTEND:00000000T235900
LOCATION:Corbin, KY\, USA
URL:http://www.moonbowultra.com/
CATEGORIES:Ultramarathon
CONTACT:
CLASS:PUBLIC
PRIORITY:5
TRANSP:OPAQUE
END:VEVENT
END:VCALENDAR
