BEGIN:VCALENDAR
PRODID:-//http://statistik.d-u-v.org//PHP ultracalendar//EN
VERSION:2.0
METHOD:PUBLISH
BEGIN:VEVENT
DTSTAMP:20260423T025030
CREATED:20200916T155030
UID:1776912630.0.46089900-70219@statistik.d-u-v.org
SUMMARY:Transgrancanaria 129 km
DESCRIPTION: Transgrancanaria 129 km\n
  Fernando González\n
  info[at]transgrancanaria.net
DTSTART:20210226T230000
DTEND:20210228T050000
LOCATION:Las Palmas\, ESP
URL:http://www.transgrancanaria.net
CATEGORIES:Ultramarathon
CONTACT:Fernando González
CLASS:PUBLIC
PRIORITY:5
TRANSP:OPAQUE
END:VEVENT
END:VCALENDAR
