BEGIN:VCALENDAR
PRODID:-//http://statistik.d-u-v.org//PHP ultracalendar//EN
VERSION:2.0
METHOD:PUBLISH
BEGIN:VEVENT
DTSTAMP:20260419T185849
CREATED:20200914T175958
UID:1776625129.0.17063800-70161@statistik.d-u-v.org
SUMMARY:NYRR National TAC 100 Mile Championship - 50mi Split
DESCRIPTION: NYRR National TAC 100 Mile Championship - 50mi Split\n
  \n
  
DTSTART:19850615T000000
DTEND:19850616T235900
LOCATION:New York, NY\, USA
URL:
CATEGORIES:Ultramarathon
CONTACT:
CLASS:PUBLIC
PRIORITY:5
TRANSP:OPAQUE
END:VEVENT
END:VCALENDAR
