BEGIN:VCALENDAR
PRODID:-//http://statistik.d-u-v.org//PHP ultracalendar//EN
VERSION:2.0
METHOD:PUBLISH
BEGIN:VEVENT
DTSTAMP:20260419T192250
CREATED:20200912T131251
UID:1776626570.0.46364600-70136@statistik.d-u-v.org
SUMMARY:Marji Gesick 100/50 Mile Ultra Race
DESCRIPTION: Marji Gesick 100/50 Mile Ultra Race\n
  \n
  
DTSTART:20200918T235900
DTEND:20200919T235900
LOCATION:Ishpeming, MI\, USA
URL:https://marjigesick100.com/
CATEGORIES:Ultramarathon
CONTACT:
CLASS:PUBLIC
PRIORITY:5
TRANSP:OPAQUE
END:VEVENT
END:VCALENDAR
