BEGIN:VCALENDAR
PRODID:-//http://statistik.d-u-v.org//PHP ultracalendar//EN
VERSION:2.0
METHOD:PUBLISH
BEGIN:VEVENT
DTSTAMP:20260421T183151
CREATED:20200910T193620
UID:1776796311.0.79078200-70099@statistik.d-u-v.org
SUMMARY:100 km de Paris
DESCRIPTION: 100 km de Paris\n
  \n
  
DTSTART:18940300T000000
DTEND:00000000T235900
LOCATION:Paris, Champs de Mars\, FRA
URL:
CATEGORIES:Ultramarathon
CONTACT:
CLASS:PUBLIC
PRIORITY:5
TRANSP:OPAQUE
END:VEVENT
END:VCALENDAR
