BEGIN:VCALENDAR
PRODID:-//http://statistik.d-u-v.org//PHP ultracalendar//EN
VERSION:2.0
METHOD:PUBLISH
BEGIN:VEVENT
DTSTAMP:20260419T210148
CREATED:20200910T102732
UID:1776632508.0.01004700-70083@statistik.d-u-v.org
SUMMARY:Temptation 200 - 200km Ultra Race
DESCRIPTION: Temptation 200 - 200km Ultra Race\n
  \n
  
DTSTART:20200905T040000
DTEND:20200906T235900
LOCATION:Forest City, IL\, USA
URL:http://www.temptation200.com/
CATEGORIES:Ultramarathon
CONTACT:
CLASS:PUBLIC
PRIORITY:5
TRANSP:OPAQUE
END:VEVENT
END:VCALENDAR
