BEGIN:VCALENDAR
PRODID:-//http://statistik.d-u-v.org//PHP ultracalendar//EN
VERSION:2.0
METHOD:PUBLISH
BEGIN:VEVENT
DTSTAMP:20260424T174709
CREATED:20200910T094929
UID:1777052829.0.16550400-70080@statistik.d-u-v.org
SUMMARY:Seoul Int. Ultra Trail 196 km
DESCRIPTION: Seoul Int. Ultra Trail 196 km\n
  \n
  hmt2111[at]naver.com
DTSTART:20210417T170000
DTEND:20210420T100000
LOCATION:Seoul City\, KOR
URL:http://www.xn--oi2bscs8eswnfjha816s.kr/?doc_id=schedule&wr_id=60
CATEGORIES:Ultramarathon
CONTACT:
CLASS:PUBLIC
PRIORITY:5
TRANSP:OPAQUE
END:VEVENT
END:VCALENDAR
