BEGIN:VCALENDAR
PRODID:-//http://statistik.d-u-v.org//PHP ultracalendar//EN
VERSION:2.0
METHOD:PUBLISH
BEGIN:VEVENT
DTSTAMP:20260423T012301
CREATED:20200910T074728
UID:1776907381.0.97955400-70078@statistik.d-u-v.org
SUMMARY:12-Stunden-Benefizlauf
DESCRIPTION: 12-Stunden-Benefizlauf\n
  Steffen Schläfer\n
  steffen[at]schlaefer-osteopathie.de
DTSTART:20210911T070000
DTEND:00000000T235900
LOCATION:Kaiserslautern\, GER
URL:https://www.42x42benefizteam.de/12-stunden-benefizlauf
CATEGORIES:Ultramarathon
CONTACT:Steffen Schläfer
CLASS:PUBLIC
PRIORITY:5
TRANSP:OPAQUE
END:VEVENT
END:VCALENDAR
