BEGIN:VCALENDAR
PRODID:-//http://statistik.d-u-v.org//PHP ultracalendar//EN
VERSION:2.0
METHOD:PUBLISH
BEGIN:VEVENT
DTSTAMP:20260425T220254
CREATED:20200907T121208
UID:1777154574.0.67097600-69974@statistik.d-u-v.org
SUMMARY:L'Étoile Verte D'Éguzon
DESCRIPTION: L'Étoile Verte D'Éguzon\n
  J.-B. Jaouen\n
  transegaule[at]wanadoo.fr
DTSTART:20210829T073000
DTEND:20210903T235900
LOCATION:Eguzon-Chantome\, FRA
URL:http://www.la-transegaule.fr/
CATEGORIES:Ultramarathon
CONTACT:J.-B. Jaouen
CLASS:PUBLIC
PRIORITY:5
TRANSP:OPAQUE
END:VEVENT
END:VCALENDAR
