BEGIN:VCALENDAR
PRODID:-//http://statistik.d-u-v.org//PHP ultracalendar//EN
VERSION:2.0
METHOD:PUBLISH
BEGIN:VEVENT
DTSTAMP:20260420T070812
CREATED:20200901T145202
UID:1776668892.0.56179700-69807@statistik.d-u-v.org
SUMMARY:Sri Chinmoy 100 Mile Road Race
DESCRIPTION: Sri Chinmoy 100 Mile Road Race\n
  \n
  
DTSTART:19900505T000000
DTEND:19900506T235900
LOCATION:New York, NY\, USA
URL:http://us.srichinmoyraces.org/archives/1986/70and100
CATEGORIES:Ultramarathon
CONTACT:
CLASS:PUBLIC
PRIORITY:5
TRANSP:OPAQUE
END:VEVENT
END:VCALENDAR
