BEGIN:VCALENDAR
PRODID:-//http://statistik.d-u-v.org//PHP ultracalendar//EN
VERSION:2.0
METHOD:PUBLISH
BEGIN:VEVENT
DTSTAMP:20260419T164631
CREATED:20200824T145615
UID:1776617191.0.36837400-69660@statistik.d-u-v.org
SUMMARY:Sri Chinmoy 1000 Mile Race - 1000km Split
DESCRIPTION: Sri Chinmoy 1000 Mile Race - 1000km Split\n
  \n
  
DTSTART:19850501T000000
DTEND:19850517T235900
LOCATION:New York, NY\, USA
URL:https://us.srichinmoyraces.org/
CATEGORIES:Ultramarathon
CONTACT:
CLASS:PUBLIC
PRIORITY:5
TRANSP:OPAQUE
END:VEVENT
END:VCALENDAR
