BEGIN:VCALENDAR
PRODID:-//http://statistik.d-u-v.org//PHP ultracalendar//EN
VERSION:2.0
METHOD:PUBLISH
BEGIN:VEVENT
DTSTAMP:20260420T022456
CREATED:20200824T100023
UID:1776651896.0.09272000-69654@statistik.d-u-v.org
SUMMARY:Winter Solstice 67
DESCRIPTION: Winter Solstice 67\n
  Morten Grundsøe\n
  info[at]danishultra.com
DTSTART:20201220T080000
DTEND:00000000T235900
LOCATION:Kerteminde\, DEN
URL:https://danishultra.com
CATEGORIES:Ultramarathon
CONTACT:Morten Grundsøe
CLASS:PUBLIC
PRIORITY:5
TRANSP:OPAQUE
END:VEVENT
END:VCALENDAR
